BEGIN:VCALENDAR
VERSION:2.0
PRODID:-//wp-events-plugin.com//7.2.3.1//EN
BEGIN:VEVENT
UID:2@ratsastuskeskusaino.fi
DTSTART;TZID=Europe/Helsinki;VALUE=DATE:20251122
DTEND;TZID=Europe/Helsinki;VALUE=DATE:20251124
DTSTAMP:20250924T092907Z
URL:https://ratsastuskeskusaino.fi/tapahtumat/piia-pantsun-valmennukset
SUMMARY:Piia Pantsun valmennukset
DESCRIPTION:Tervetuloa Piia Pantsun valmennuksiin Ratsastuskeskus Ainoon!\n
 \nValmennukset järjestetään Ainon lämmitetyssä maneesissa.\nHinta 80
 €/päivä + 10€ kenttävuokra.\nHuom: ilmoittautuminen on sitova!\nKat
 sojille vapaa pääsy\, tervetuloa seuraamaan!\n\nIlmoittautumiset lomakke
 en kautta: https://forms.gle/gxXTc9C5XPWn6gv4A
ATTACH;FMTTYPE=image/jpeg:https://ratsastuskeskusaino.fi/wp-content/upload
 s/2025/09/Piia-Pantsu-2.jpg
CATEGORIES:Tapahtumat
END:VEVENT
BEGIN:VTIMEZONE
TZID:Europe/Helsinki
X-LIC-LOCATION:Europe/Helsinki
BEGIN:STANDARD
DTSTART:20251026T030000
TZOFFSETFROM:+0300
TZOFFSETTO:+0200
TZNAME:EET
END:STANDARD
END:VTIMEZONE
END:VCALENDAR