BEGIN:VCALENDAR
VERSION:2.0
PRODID:-//wp-events-plugin.com//7.2.3.1//EN
BEGIN:VEVENT
UID:9@ratsastuskeskusaino.fi
DTSTART;TZID=Europe/Helsinki:20260106T000000
DTEND;TZID=Europe/Helsinki:20260106T000000
DTSTAMP:20251215T195702Z
URL:https://ratsastuskeskusaino.fi/tapahtumat/pay-jump-loppuunmyyty
SUMMARY:Pay & Jump / loppuunmyyty
DESCRIPTION:Aino Areenalle rakennetulla ratsastusareenalla on rata pystyss
 ä itsenäistä radan hyppäämistä varten.\nRataharjoitus on loppuunmyyt
 y!
ATTACH;FMTTYPE=image/jpeg:https://ratsastuskeskusaino.fi/wp-content/upload
 s/2025/12/Matilda-Porola-Hallo-Croket-van-Puyenbroeck-2.jpg
END:VEVENT
BEGIN:VTIMEZONE
TZID:Europe/Helsinki
X-LIC-LOCATION:Europe/Helsinki
BEGIN:STANDARD
DTSTART:20251026T030000
TZOFFSETFROM:+0300
TZOFFSETTO:+0200
TZNAME:EET
END:STANDARD
END:VTIMEZONE
END:VCALENDAR