BEGIN:VCALENDAR
VERSION:2.0
PRODID:-//wp-events-plugin.com//7.2.3.1//EN
BEGIN:VEVENT
UID:8@ratsastuskeskusaino.fi
DTSTART;TZID=Europe/Helsinki:20260121T170000
DTEND;TZID=Europe/Helsinki:20260121T190000
DTSTAMP:20260120T205006Z
URL:https://ratsastuskeskusaino.fi/tapahtumat/maastakasittelyklinikka
SUMMARY:Maastakäsittelyklinikka
DESCRIPTION:Keskiviikkona 21.1.2026 klo 17 alkaen Ainossa nähdään maasta
 käsittelyklinikka Karoliina Forsströmin ja Jussi Länsimaan vetämänä!
 \n\nOlemme lähettäneet tapahtumaan liittyen infoviestin 20.1. aamuna\, m
 utta jostain syystä se ei ole tavoittanut kaikkia ilmoittautuneita. Info 
 alla:\nTervetuloa Karoliina Forsströmin sekä Jussi Länsimaan maastakäs
 ittelyklinikalle Ainoon 21.1.2026!\nAlla löydät tärkeimmät käytännö
 n ohjeet\, jotta saapuminen ja klinikka sujuvat mahdollisimman jouhevasti.
 \n⸻\nSaapuminen autolla\nOsoite\nAino Areena\nMaamiehenkatu 14\, 04400 J
 ärvenpää\nAino Areena sijaitsee Lahden moottoritien läheisyydessä. Sa
 apuminen tapahtuu uutta tapahtumatietä pitkin\, joka lähtee Verstaspihan
 kadulta ja vie suoraan Aino Areenan alueelle.\nSeuraa Aino Areenan opastei
 ta saapuessasi.\n⸻\nPysäköinti\nPysäköinti on maksuton.\nPysäköint
 i tapahtuu ensisijaisesti Aino Areenan edessä. Mikäli etualue täyttyy\,
  pysäköinti hiekkaparkkialueelle. Noudata alueen opasteita. Paikalla ei 
 ole liikenteenohjausta.\n⸻\nOvet ja aikataulu\nOvet avautuvat klo 16:00\
 nKlinikka alkaa klo 17:00\nKesto noin 3h.\n⸻\nSisäänkäynti ja ilmoitt
 autuminen\nErillistä lippua ei tarvita. Sisäänpääsy tapahtuu ilmoitta
 utuneen nimellä.\nMikäli olet maksanut useamman henkilön osallistumisen
 \, pyydämme teitä saapumaan yhdessä\, jotta sisäänkirjautuminen sujuu
  mahdollisimman nopeasti.\nOsallistuminen tulee olla maksettuna keskiviikk
 ona klo 12 mennessä.\nMAKSUT:\nKlinikan lipunhinta on 35 € / henkilö.\
 nRatsastusseura Aino RY\nFI85 5092 0920 3222 35\nViesti\; Maastakäsittely
 klinikka 21.1.2026 / osallistujan nimi\n⸻\nRuokailu ja kahvila\nAino Are
 enan kahvila ei ole avoinna klinikan aikana.\nSuosittelemme varaamaan muk
 aan omat eväät ja juotavaa.\n⸻\nTärkeää huomioitavaa\n• Paikalla 
 ei ole erillistä narikkaa\, joten varaudu pitämään ulkovaatteet mukana
 si\n• Areenan lämpötila on noin 17 °C\, suosittelemme lämpimiä ja m
 ukavia vaatteita\n• Noudata henkilökunnan ohjeita alueella liikkumisess
 a\n⸻\nLämpimästi tervetuloa Ratsastuskeskus Ainoon!\n\n---\n&nbsp\;\n\
 nKaroliina ja Jussi ovat perehtyneet kouluttamaan hevosia käyttäen hyöd
 yksi hevosen luontaista laumakäyttätymistä\, fysiologiaa sekä anatomia
 a. \n\nHeillä on kotonaan Turengissa 25 hevosen talli missä pääsään
 töisesti koulutetaan sekä ratsutetaan nuoria hevosia. \n\nHeille tulee 
 myös ratsutukseen paljon hevosia\, mitkä eivät ole pärjänneet ns. nor
 maalissa ratsutuksessa. \n\nVuosi 2026 onkin pitkälti loppuunmyyty koulu
 tuspaikkojen osalta\, mutta klinikalla pääset seuraamaan heidän työske
 ntelyään hevosten parissa! \n\nKaro ja Jussi kouluttaa kaiken tasoisia\
 , ikäisiä ja rotuisia hevosia\, erikoisosaaminen hevosten käytösongelm
 issa \, mm\; \n\n•⁠  ⁠lastaus\n\n•⁠  ⁠kengitys \n\n•⁠
   ⁠käytösongelmat ja oheistoiminnat\n\n•⁠  ⁠ratsastukseen liit
 tyvät ongelmat \n\n•⁠  ⁠uudelleenratsutukset\n\nMitä klinikka si
 sältää? \n\n💡 Opit miten ja miksi laumakäyttäytyminen vaikuttaa h
 evosen kykyyn oppia\, sekä miten voimme hyödyntää hevosen geeniperimä
 ä kouluttamisessa. \n\n💡 Miten laskemme hevosten stressitasoja\, saam
 me hevosesta rennomman\, kuuliaan sekä luottavaisen. \n\nMiten rentous v
 aikuttaa hevosen kykyyn oppia \n\n💡Opit hevosen anatomiasta\, sekä fy
 siologiasta\n\n💡Opit erilaisia tapoja vahvistaa hevosta fyysisesti sek
 ä miten saat hevosesta elastisemman \n\nMAKSUT:\n\nKlinikan normaali lip
 unhinta on 35 € / henkilö.\n\nEnnen joulua liput erikoishintaan 30 € 
 / henkilö.\n\nIlmoittautumiset lomakkeen kautta: https://forms.gle/RVXpwP
 FEy3PGQWZm8\n\nLähetämme lisätietoa mm. saapumisesta ilmoittautuneille 
 ennen tapahtumaa.\n\nKesto n. 3h.\n\nKlinikan järjestää Ratsastusseura 
 Aino.
ATTACH;FMTTYPE=image/jpeg:https://ratsastuskeskusaino.fi/wp-content/upload
 s/2025/12/WhatsApp-Image-2025-12-15-at-13.01.42.jpeg
END:VEVENT
BEGIN:VTIMEZONE
TZID:Europe/Helsinki
X-LIC-LOCATION:Europe/Helsinki
BEGIN:STANDARD
DTSTART:20251026T030000
TZOFFSETFROM:+0300
TZOFFSETTO:+0200
TZNAME:EET
END:STANDARD
END:VTIMEZONE
END:VCALENDAR