BEGIN:VCALENDAR
VERSION:2.0
PRODID:-//wp-events-plugin.com//7.2.3.1//EN
BEGIN:VEVENT
UID:7@ratsastuskeskusaino.fi
DTSTART;TZID=Europe/Helsinki:20260122T000000
DTEND;TZID=Europe/Helsinki:20260125T000000
DTSTAMP:20251126T165446Z
URL:https://ratsastuskeskusaino.fi/tapahtumat/esteratsastuskilpailut-2
SUMMARY:Esteratsastuskilpailut
DESCRIPTION:\n\nTervetuloa kilpailemaan ja seuraamaan ratsastuskilpailuja R
 atsastuskeskus Ainoon!\n\n\n\n\nTammikuussa 2026 Aino Areena muuttuu ratsa
 stuksen näyttämöksi\, kun Areenalle rakennetaan ratsastuskenttä ja jä
 rjestämme läpi kuukauden toinen toistaan vaikuttavampia tapahtumia. Aino
 ssa on erinomaiset puitteet sekä kilpailla että seurata kilpailuja. Mole
 mmat ratsastusareenat ovat lämmitettyjä\, ja tapahtumat ovat avoimia yle
 isölle.\n\n\n\n\nJo julkaistut kilpailut ja tapahtumat:• 9–10.1. Seur
 a- ja aluetason estekilpailut• 17–18.1. Ingrid Klimke ratsastusklinikk
 a• 22–25.1. Kansallisen tason estekilpailut (myös seura- ja aluetaso!
 )\n\n\nJulkaisemme lisää tapahtumia pian.
ATTACH;FMTTYPE=image/jpeg:https://ratsastuskeskusaino.fi/wp-content/upload
 s/2023/01/324657361_461604566183227_931533891415750256_n.jpg
CATEGORIES:Tapahtumat
END:VEVENT
BEGIN:VTIMEZONE
TZID:Europe/Helsinki
X-LIC-LOCATION:Europe/Helsinki
BEGIN:STANDARD
DTSTART:20251026T030000
TZOFFSETFROM:+0300
TZOFFSETTO:+0200
TZNAME:EET
END:STANDARD
END:VTIMEZONE
END:VCALENDAR